BEGIN:VCALENDAR
VERSION:2.0
PRODID:-//Historic Carousel &amp; Museum of Albany - ECPv6.10.2//NONSGML v1.0//EN
CALSCALE:GREGORIAN
METHOD:PUBLISH
X-ORIGINAL-URL:https://albanycarousel.com
X-WR-CALDESC:Events for Historic Carousel &amp; Museum of Albany
REFRESH-INTERVAL;VALUE=DURATION:PT1H
X-Robots-Tag:noindex
X-PUBLISHED-TTL:PT1H
BEGIN:VTIMEZONE
TZID:America/Los_Angeles
BEGIN:DAYLIGHT
TZOFFSETFROM:-0800
TZOFFSETTO:-0700
TZNAME:PDT
DTSTART:20260308T100000
END:DAYLIGHT
BEGIN:STANDARD
TZOFFSETFROM:-0700
TZOFFSETTO:-0800
TZNAME:PST
DTSTART:20261101T090000
END:STANDARD
END:VTIMEZONE
BEGIN:VEVENT
DTSTART;TZID=America/Los_Angeles:20260502T183000
DTEND;TZID=America/Los_Angeles:20260502T210000
DTSTAMP:20260425T092232
CREATED:20260218T194341Z
LAST-MODIFIED:20260403T220829Z
UID:2590777-1777746600-1777755600@albanycarousel.com
SUMMARY:Kentucky Derby: A Night at the Races
DESCRIPTION:Kentucky Derby: Benefitting the Historic Carousel & Museum\nDon your derby best! This 21-and-up event offers an exciting evening of fanciful outfits\, carousel racing\, refreshing mint juleps\, and decadent Southern-style cuisine. Show off your derby flair with our red carpet walk and photo booth. Enter your extravagant hats\, stylish shoes\, and eye-catching outfits into one of our many ensemble competitions for a chance to bring home a 1st place ribbon! \nThe Kentucky Derby is one of the carousel’s biggest fundraising events of the year! All proceeds will support the Historic Carousel & Museum 501(c)(3) nonprofit organization\, allowing us to continue giving back to our community and providing a fun\, safe space for everyone to enjoy.  \nTICKETS WILL GO FAST SO GET YOURS TODAY! Click on the name of the ticket you want to purchase to proceed. Don’t miss out on this unforgettable night. We can’t wait to see you there! \nGrand Stand General Admission – $70\n\nGeneral Admission for 6:30 p.m.\n1 raffle ticket\n\nChurchill Downs VIP – $100\n\nEarly admission at  6:00 p.m.\nUnlimited carousel rides for the first half hour\nCarousel swag bag\n2 raffle tickets\n1 drink ticket\n\nChurchill Downs VIP Table – $800\n\nAll VIP perks for each guest\nReserve a table for up to 8 guests\nTake home a bottle of wine (per table)\n\nCarousel Races\n\nPurchase betting tickets for $1 each\nWager your bets on our carousel horses\nWin 20 extra raffle tickets\n\nDerby Raffle\n\nPurchase extra raffle tickets for $5 each\nEnter for a chance to win one of our five incredible raffle prizes\n5 winners will be chosen\n\nSilent Auction\n\nBrowse unique items\, baskets\, and adventures up for bid\nAll proceeds support the Carousel’s operations.\n\nWine Pull\n\nFeeling lucky? $20 per pull (while supplies last)\nVisit the ticket table and pull a bottle of wine\, perfect for a prize or a treat to enjoy at home!\n\nNo ticket refund after purchase. Must be present to win prizes. Email any additional questions to CarouselEvents4@gmail.com \n  \nA Big Thank You to our Sponsors:\n  \n  \n 
URL:https://albanycarousel.com/event/kentucky-derby-3/
LOCATION:Albany Carousel\, 503 1st Street W\, Albany\, OR\, 97321\, United States
END:VEVENT
BEGIN:VEVENT
DTSTART;TZID=America/Los_Angeles:20260510T110000
DTEND;TZID=America/Los_Angeles:20260510T160000
DTSTAMP:20260425T092232
CREATED:20260218T191445Z
LAST-MODIFIED:20260218T191445Z
UID:2590722-1778410800-1778428800@albanycarousel.com
SUMMARY:Mother's Day Special
DESCRIPTION:Mom’s ride free! First 100 mothers to visit the carousel will also receive a free flower. \n 
URL:https://albanycarousel.com/event/mothers-day-special/
LOCATION:Albany Carousel\, 503 1st Street W\, Albany\, OR\, 97321\, United States
END:VEVENT
BEGIN:VEVENT
DTSTART;TZID=America/Los_Angeles:20260514T113000
DTEND;TZID=America/Los_Angeles:20260514T123000
DTSTAMP:20260425T092232
CREATED:20260314T215019Z
LAST-MODIFIED:20260314T221920Z
UID:2633204-1778758200-1778761800@albanycarousel.com
SUMMARY:Once Upon a Thursday
DESCRIPTION:This week we have Story Time with Miss Robin! \nFree to attend. It will be held in our Rental Room 1\, just off the main Carousel room. It is quickly becoming a family favorite! Come on down and enjoy a tale with us.
URL:https://albanycarousel.com/event/once-upon-a-thursday/
LOCATION:Albany Carousel\, 503 1st Street W\, Albany\, OR\, 97321\, United States
END:VEVENT
END:VCALENDAR