BEGIN:VCALENDAR
VERSION:2.0
PRODID:-//Historic Carousel &amp; Museum of Albany - ECPv6.10.2//NONSGML v1.0//EN
CALSCALE:GREGORIAN
METHOD:PUBLISH
X-ORIGINAL-URL:https://albanycarousel.com
X-WR-CALDESC:Events for Historic Carousel &amp; Museum of Albany
REFRESH-INTERVAL;VALUE=DURATION:PT1H
X-Robots-Tag:noindex
X-PUBLISHED-TTL:PT1H
BEGIN:VTIMEZONE
TZID:America/Los_Angeles
BEGIN:DAYLIGHT
TZOFFSETFROM:-0800
TZOFFSETTO:-0700
TZNAME:PDT
DTSTART:20260308T100000
END:DAYLIGHT
BEGIN:STANDARD
TZOFFSETFROM:-0700
TZOFFSETTO:-0800
TZNAME:PST
DTSTART:20261101T090000
END:STANDARD
END:VTIMEZONE
BEGIN:VEVENT
DTSTART;TZID=America/Los_Angeles:20260621T110000
DTEND;TZID=America/Los_Angeles:20260621T160000
DTSTAMP:20260425T063719
CREATED:20260218T191635Z
LAST-MODIFIED:20260218T191635Z
UID:2590725-1782039600-1782057600@albanycarousel.com
SUMMARY:Father's Day Special
DESCRIPTION:Dad’s ride free! First 100 dads to visit the carousel will get a free slushie!
URL:https://albanycarousel.com/event/fathers-day-special/
LOCATION:Albany Carousel\, 503 1st Street W\, Albany\, OR\, 97321\, United States
END:VEVENT
BEGIN:VEVENT
DTSTART;TZID=America/Los_Angeles:20260627T110000
DTEND;TZID=America/Los_Angeles:20260627T130000
DTSTAMP:20260425T063719
CREATED:20260218T193424Z
LAST-MODIFIED:20260423T225137Z
UID:2590757-1782558000-1782565200@albanycarousel.com
SUMMARY:Tea-Rex Party
DESCRIPTION:Get ready for a dinosaur tea party where things are anything but fancy. Think dirt\, and prehistoric chaos! Party Perfection Oregon will be joining us for face painting and extra fun to keep the adventure going. It’s all about roaring loud\, playing hard\, and having a totally untamed good time. \nWe will have differing themed activities plus free carousel rides during the event. There will be themed food and desserts\, juice\, tea\, and hot cocoa. Bring your dinosaur appetites! Tickets are $35 per person.
URL:https://albanycarousel.com/event/tearex-party/
LOCATION:Albany Carousel\, 503 1st Street W\, Albany\, OR\, 97321\, United States
END:VEVENT
BEGIN:VEVENT
DTSTART;TZID=America/Los_Angeles:20260725T080000
DTEND;TZID=America/Los_Angeles:20260725T170000
DTSTAMP:20260425T063719
CREATED:20260218T195653Z
LAST-MODIFIED:20260218T195653Z
UID:2590807-1784966400-1784998800@albanycarousel.com
SUMMARY:National Carousel Day - Free rides all day!
DESCRIPTION:Celebrate National Carousel Day with us! Free rides all day!
URL:https://albanycarousel.com/event/national-carousel-day-free-rides-all-day/
LOCATION:Albany Carousel\, 503 1st Street W\, Albany\, OR\, 97321\, United States
END:VEVENT
BEGIN:VEVENT
DTSTART;TZID=America/Los_Angeles:20260815T100000
DTEND;TZID=America/Los_Angeles:20260815T150000
DTSTAMP:20260425T063719
CREATED:20260218T194545Z
LAST-MODIFIED:20260218T194545Z
UID:2590782-1786788000-1786806000@albanycarousel.com
SUMMARY:Carnival at the Carousel
DESCRIPTION:Celebrate our 9th annual Carnival at the Carousel!
URL:https://albanycarousel.com/event/carnival-at-the-carousel-6/
LOCATION:Albany Carousel\, 503 1st Street W\, Albany\, OR\, 97321\, United States
END:VEVENT
BEGIN:VEVENT
DTSTART;TZID=America/Los_Angeles:20260919T110000
DTEND;TZID=America/Los_Angeles:20260919T190000
DTSTAMP:20260425T063719
CREATED:20260218T192636Z
LAST-MODIFIED:20260218T192636Z
UID:2590745-1789815600-1789844400@albanycarousel.com
SUMMARY:International Talk Like a Pirate Day!
DESCRIPTION:Join us in your best pirate gear for a mighty fine time! Dress like a pirate and get a free ride card!
URL:https://albanycarousel.com/event/international-talk-like-a-pirate-day-4/
LOCATION:Albany Carousel\, 503 1st Street W\, Albany\, OR\, 97321\, United States
END:VEVENT
BEGIN:VEVENT
DTSTART;TZID=America/Los_Angeles:20261028T110000
DTEND;TZID=America/Los_Angeles:20261028T160000
DTSTAMP:20260425T063719
CREATED:20260218T192433Z
LAST-MODIFIED:20260218T192433Z
UID:2590742-1793185200-1793203200@albanycarousel.com
SUMMARY:First Responders Day
DESCRIPTION:First responders ride free!
URL:https://albanycarousel.com/event/first-responders-day/
LOCATION:Albany Carousel\, 503 1st Street W\, Albany\, OR\, 97321\, United States
END:VEVENT
BEGIN:VEVENT
DTSTART;TZID=America/Los_Angeles:20261031T160000
DTEND;TZID=America/Los_Angeles:20261031T190000
DTSTAMP:20260425T063719
CREATED:20260218T192221Z
LAST-MODIFIED:20260218T192316Z
UID:2590732-1793462400-1793473200@albanycarousel.com
SUMMARY:Halloween at the Scare-o-sel!
DESCRIPTION:Join us for our candy handout and costume contest from 4pm to 7pm! \nWe are open all day from 11am to 7pm!
URL:https://albanycarousel.com/event/halloween-at-the-scare-o-sel/
LOCATION:Albany Carousel\, 503 1st Street W\, Albany\, OR\, 97321\, United States
END:VEVENT
BEGIN:VEVENT
DTSTART;TZID=America/Los_Angeles:20261111T110000
DTEND;TZID=America/Los_Angeles:20261111T160000
DTSTAMP:20260425T063719
CREATED:20260218T191807Z
LAST-MODIFIED:20260218T191807Z
UID:2590729-1794394800-1794412800@albanycarousel.com
SUMMARY:Veteran's Day Celebration
DESCRIPTION:Veterans ride free! Come on by after the parade and grab some lunch a ride!
URL:https://albanycarousel.com/event/veterans-day-celebration/
LOCATION:Albany Carousel\, 503 1st Street W\, Albany\, OR\, 97321\, United States
END:VEVENT
BEGIN:VEVENT
DTSTART;TZID=America/Los_Angeles:20261128T103000
DTEND;TZID=America/Los_Angeles:20261128T110000
DTSTAMP:20260425T063719
CREATED:20260218T195019Z
LAST-MODIFIED:20260218T195019Z
UID:2590788-1795861800-1795863600@albanycarousel.com
SUMMARY:Santa's Carousel Connection
DESCRIPTION:Santa arrives by train to kick off this seasons Santa’s visits!
URL:https://albanycarousel.com/event/santas-carousel-connection/
LOCATION:Albany Carousel\, 503 1st Street W\, Albany\, OR\, 97321\, United States
END:VEVENT
BEGIN:VEVENT
DTSTART;TZID=America/Los_Angeles:20261212T080000
DTEND;TZID=America/Los_Angeles:20261212T100000
DTSTAMP:20260425T063719
CREATED:20260218T193008Z
LAST-MODIFIED:20260218T193008Z
UID:2590751-1797062400-1797069600@albanycarousel.com
SUMMARY:Breakfast with Santa 1/2
DESCRIPTION:Breakfast with Santa ticket sales will be available here and on our social media as we near November. Stay tuned! \nBreakfast 1: Saturday December 12th 8am to 10am \nBreakfast 2: Sunday December 13th 8am to 10am
URL:https://albanycarousel.com/event/breakfast-with-santa-1-2/
LOCATION:Albany Carousel\, 503 1st Street W\, Albany\, OR\, 97321\, United States
END:VEVENT
BEGIN:VEVENT
DTSTART;TZID=America/Los_Angeles:20261213T080000
DTEND;TZID=America/Los_Angeles:20261213T100000
DTSTAMP:20260425T063719
CREATED:20260218T193056Z
LAST-MODIFIED:20260218T193056Z
UID:2590756-1797148800-1797156000@albanycarousel.com
SUMMARY:Breakfast with Santa 2/2
DESCRIPTION:Breakfast with Santa ticket sales will be available here and on our social media as we near November. Stay tuned! \nBreakfast 1: Saturday December 12th 8am to 10am \nBreakfast 2: Sunday December 13th 8am to 10am
URL:https://albanycarousel.com/event/breakfast-with-santa-2-2/
LOCATION:Albany Carousel\, 503 1st Street W\, Albany\, OR\, 97321\, United States
END:VEVENT
END:VCALENDAR