BEGIN:VCALENDAR
VERSION:2.0
PRODID:-//Historic Carousel &amp; Museum of Albany - ECPv6.10.2//NONSGML v1.0//EN
CALSCALE:GREGORIAN
METHOD:PUBLISH
X-WR-CALNAME:Historic Carousel &amp; Museum of Albany
X-ORIGINAL-URL:https://albanycarousel.com
X-WR-CALDESC:Events for Historic Carousel &amp; Museum of Albany
REFRESH-INTERVAL;VALUE=DURATION:PT1H
X-Robots-Tag:noindex
X-PUBLISHED-TTL:PT1H
BEGIN:VTIMEZONE
TZID:America/Los_Angeles
BEGIN:DAYLIGHT
TZOFFSETFROM:-0800
TZOFFSETTO:-0700
TZNAME:PDT
DTSTART:20180311T100000
END:DAYLIGHT
BEGIN:STANDARD
TZOFFSETFROM:-0700
TZOFFSETTO:-0800
TZNAME:PST
DTSTART:20181104T090000
END:STANDARD
BEGIN:DAYLIGHT
TZOFFSETFROM:-0800
TZOFFSETTO:-0700
TZNAME:PDT
DTSTART:20190310T100000
END:DAYLIGHT
BEGIN:STANDARD
TZOFFSETFROM:-0700
TZOFFSETTO:-0800
TZNAME:PST
DTSTART:20191103T090000
END:STANDARD
END:VTIMEZONE
BEGIN:VEVENT
DTSTART;TZID=America/Los_Angeles:20190329T100000
DTEND;TZID=America/Los_Angeles:20190329T150000
DTSTAMP:20260420T060820
CREATED:20190305T045208Z
LAST-MODIFIED:20190305T045208Z
UID:7118-1553853600-1553871600@albanycarousel.com
SUMMARY:Tile Painting with Surefire Design
DESCRIPTION:Enjoy ceramic tile painting with Surefire Designs on Friday\, March 29th\, from 10 am – 3 pm.  For $5\, paint a tile that you can enjoy for years! All supplies are included plus you get a ride token with your purchase. Tiles can be picked up a few days later at Surefire Designs located at 2nd & Ellsworth in downtown Albany.
URL:https://albanycarousel.com/event/tile-painting-with-surefire-design/
LOCATION:Albany Carousel\, 503 1st Street W\, Albany\, OR\, 97321\, United States
CATEGORIES:No School Days
ATTACH;FMTTYPE=image/jpeg:https://albanycarousel.com/wp-content/uploads/2019/03/40CE039E-994B-4B2B-9C80-288F2DC6DAB2.jpeg
END:VEVENT
BEGIN:VEVENT
DTSTART;TZID=America/Los_Angeles:20190328T103000
DTEND;TZID=America/Los_Angeles:20190328T133000
DTSTAMP:20260420T060820
CREATED:20190305T044830Z
LAST-MODIFIED:20190305T045823Z
UID:7117-1553769000-1553779800@albanycarousel.com
SUMMARY:Princess Perfection Rapunzel Party!
DESCRIPTION:More Spring Break fun! Join us on Thursday\, March 28th\, from 10:30 to 1:30 pm. Join Princess Perfection and Rapunzel and Friends for springtime art projects\, coloring and face-painting. Princess Perfection will be collecting donations for activities. Fun for all ages!
URL:https://albanycarousel.com/event/princess-perfection-rapunzel-party/
LOCATION:Albany Carousel\, 503 1st Street W\, Albany\, OR\, 97321\, United States
CATEGORIES:No School Days
ATTACH;FMTTYPE=image/jpeg:https://albanycarousel.com/wp-content/uploads/2019/03/40CE039E-994B-4B2B-9C80-288F2DC6DAB2.jpeg
END:VEVENT
BEGIN:VEVENT
DTSTART;TZID=America/Los_Angeles:20190327T100000
DTEND;TZID=America/Los_Angeles:20190327T150000
DTSTAMP:20260420T060820
CREATED:20190305T044403Z
LAST-MODIFIED:20190305T044403Z
UID:7115-1553680800-1553698800@albanycarousel.com
SUMMARY:Bricks and Joysticks at the Carousel
DESCRIPTION:Kids are out of school for spring break\, bring them down to the Carousel! Bricks and Joysticks will fill one of our party rooms with LEGO play areas\, scavenger hunts\, and make your own LEGO figurine for $3.00 (Carousel ride token included with purchase). Fun for all ages!
URL:https://albanycarousel.com/event/bricks-and-joysticks-at-the-carousel/
LOCATION:Albany Carousel\, 503 1st Street W\, Albany\, OR\, 97321\, United States
CATEGORIES:No School Days
ATTACH;FMTTYPE=image/jpeg:https://albanycarousel.com/wp-content/uploads/2019/03/40CE039E-994B-4B2B-9C80-288F2DC6DAB2.jpeg
END:VEVENT
BEGIN:VEVENT
DTSTART;TZID=America/Los_Angeles:20190322T173000
DTEND;TZID=America/Los_Angeles:20190322T200000
DTSTAMP:20260420T060820
CREATED:20190228T053938Z
LAST-MODIFIED:20190228T053938Z
UID:7108-1553275800-1553284800@albanycarousel.com
SUMMARY:Friday Family Fun Night!
DESCRIPTION:Join us Friday March 22nd for Friday Family Fun Night. $5.00 admission per person ( children under three free) for unlimited carousel rides and activities. 5:30pm-8:00pm
URL:https://albanycarousel.com/event/friday-family-fun-night/
LOCATION:Albany Carousel\, 503 1st Street W\, Albany\, OR\, 97321\, United States
CATEGORIES:Evening Event
ATTACH;FMTTYPE=image/jpeg:https://albanycarousel.com/wp-content/uploads/2019/02/0D49C25C-AEB5-4F6F-904D-5A000C3E868F.jpeg
END:VEVENT
BEGIN:VEVENT
DTSTART;TZID=America/Los_Angeles:20190215T173000
DTEND;TZID=America/Los_Angeles:20190215T200000
DTSTAMP:20260420T060820
CREATED:20190202T231613Z
LAST-MODIFIED:20190202T231613Z
UID:7097-1550251800-1550260800@albanycarousel.com
SUMMARY:Carousel of Love
DESCRIPTION:Join us for two nights of 💗. For a $5 admission bring your valentine to the carousel. Enjoy treats\, dessert\, unlimited carousel rides and special photo opportunities. Thursday February 14 and Friday February 15th from 5:30-8:00. Admission is $5 per person with children under three free. Welcome to all ages. 
URL:https://albanycarousel.com/event/carousel-of-love-2/
LOCATION:Albany Carousel\, 503 1st Street W\, Albany\, OR\, 97321\, United States
CATEGORIES:Holiday Events
ATTACH;FMTTYPE=image/jpeg:https://albanycarousel.com/wp-content/uploads/2019/02/EDF0B89B-C081-4045-A693-F73C50E51C55-e1549149243343.jpeg
END:VEVENT
BEGIN:VEVENT
DTSTART;TZID=America/Los_Angeles:20190214T173000
DTEND;TZID=America/Los_Angeles:20190214T200000
DTSTAMP:20260420T060820
CREATED:20190202T231421Z
LAST-MODIFIED:20190202T231657Z
UID:7095-1550165400-1550174400@albanycarousel.com
SUMMARY:Carousel of Love
DESCRIPTION:Join us for two nights of 💗. For a $5 admission bring your valentine to the carousel. Enjoy treats\, dessert\, unlimited carousel rides and special photo opportunities. Thursday February 14 and Friday February 15th from 5:30-8:00. Admission is $5 per person with children under three free. Welcome to all ages. 
URL:https://albanycarousel.com/event/carousel-of-love/
LOCATION:OR
CATEGORIES:Holiday Events
ATTACH;FMTTYPE=image/jpeg:https://albanycarousel.com/wp-content/uploads/2019/02/EDF0B89B-C081-4045-A693-F73C50E51C55-e1549149243343.jpeg
END:VEVENT
BEGIN:VEVENT
DTSTART;TZID=America/Los_Angeles:20190129T100000
DTEND;TZID=America/Los_Angeles:20190129T170000
DTSTAMP:20260420T060820
CREATED:20190124T060029Z
LAST-MODIFIED:20190124T060216Z
UID:7087-1548756000-1548781200@albanycarousel.com
SUMMARY:It’s a LEGO Party at the Carousel!
DESCRIPTION:“FREE EVENT! Bricks & Joystick will have Lego play tables set up and ready for all day play!  You can purchase Lego figures for just $3.00 and receive a FREE Ride Token!”
URL:https://albanycarousel.com/event/its-a-lego-party-at-the-carousel/
LOCATION:Albany Carousel\, 503 1st Street W\, Albany\, OR\, 97321\, United States
CATEGORIES:No School Days
ATTACH;FMTTYPE=image/png:https://albanycarousel.com/wp-content/uploads/2019/01/30B7B826-0307-42E1-A444-2E24D635AAB1.png
END:VEVENT
BEGIN:VEVENT
DTSTART;TZID=America/Los_Angeles:20190125T100000
DTEND;TZID=America/Los_Angeles:20190125T113000
DTSTAMP:20260420T060820
CREATED:20190118T061220Z
LAST-MODIFIED:20190119T061902Z
UID:7072-1548410400-1548415800@albanycarousel.com
SUMMARY:It's a Frozen Party!
DESCRIPTION:Friday\, January 25th from 10:00 a.m. to 11:30 a.m. \nCome join us for a party featuring Princess Perfection’s Frozen Trio: The Ice Queen\, The Ice Princess\, and the cutest little snowman ever! This is a ticketed event with limited seating so be sure to purchase your tickets before it sells out! Tickets are $7 each\, sold at the Carousel Gift Shop\, or can be purchased over the phone\, and includes a FREE Ride Token! We’ll have snacks\, coloring & activities\, storytime\, photo ops\, and riding the Carousel with the Frozen Trio. Parents needing to sit with their children will need to purchase a ticket too.
URL:https://albanycarousel.com/event/its-a-frozen-party/
LOCATION:Albany Carousel\, 503 1st Street W\, Albany\, OR\, 97321\, United States
CATEGORIES:No School Days
ATTACH;FMTTYPE=image/png:https://albanycarousel.com/wp-content/uploads/2019/01/forzenpartyevent.png
END:VEVENT
BEGIN:VEVENT
DTSTART;TZID=America/Los_Angeles:20190121T100000
DTEND;TZID=America/Los_Angeles:20190121T110000
DTSTAMP:20260420T060820
CREATED:20190109T061809Z
LAST-MODIFIED:20190109T061809Z
UID:7020-1548064800-1548068400@albanycarousel.com
SUMMARY:Pajama Party at the Carousel!
DESCRIPTION:Kids will be out of school for MLK Day… bring them in their jammies to ride the carousel! \nThis is a ticketed event and we expect tickets to sell fast! All tickets will be sold at the gift shop and are $5. Seating is limited to 80 participants – parents must have a ticket if they are sitting with their kids. \nFestivities include: \n\nCereal bar with fruit and juice\nStory time with crafts\nCarousel ride tokens
URL:https://albanycarousel.com/event/pajama-party-at-the-carousel/
LOCATION:Albany Carousel\, 503 1st Street W\, Albany\, OR\, 97321\, United States
CATEGORIES:Holiday Events
ATTACH;FMTTYPE=image/png:https://albanycarousel.com/wp-content/uploads/2019/01/8A3A353F-B476-4165-9AB7-F0C20C881C71.png
END:VEVENT
BEGIN:VEVENT
DTSTART;TZID=America/Los_Angeles:20181222T100000
DTEND;TZID=America/Los_Angeles:20181222T120000
DTSTAMP:20260420T060820
CREATED:20181125T000822Z
LAST-MODIFIED:20181212T071722Z
UID:6954-1545472800-1545480000@albanycarousel.com
SUMMARY:Breakfast with Santa
DESCRIPTION:SORRY\, THIS EVENT IS SOLD OUT
URL:https://albanycarousel.com/event/breakfast-with-santa/
LOCATION:Albany Carousel\, 503 1st Street W\, Albany\, OR\, 97321\, United States
CATEGORIES:Holiday Events
ATTACH;FMTTYPE=image/jpeg:https://albanycarousel.com/wp-content/uploads/2018/11/DC7D00AE-3797-4734-A25D-9924BAF7D91E.jpeg
END:VEVENT
BEGIN:VEVENT
DTSTART;TZID=America/Los_Angeles:20181216T110000
DTEND;TZID=America/Los_Angeles:20181216T130000
DTSTAMP:20260420T060820
CREATED:20181127T045213Z
LAST-MODIFIED:20181127T045213Z
UID:6981-1544958000-1544965200@albanycarousel.com
SUMMARY:Pictures with Santa
DESCRIPTION:Bring your own camera and take pictures with Santa! \nFREE — Donations are encouraged!
URL:https://albanycarousel.com/event/pictures-with-santa-6/
LOCATION:Albany Carousel\, 503 1st Street W\, Albany\, OR\, 97321\, United States
CATEGORIES:Holiday Events
ATTACH;FMTTYPE=image/jpeg:https://albanycarousel.com/wp-content/uploads/2018/11/santacarousel1.jpeg
END:VEVENT
BEGIN:VEVENT
DTSTART;TZID=America/Los_Angeles:20181215T110000
DTEND;TZID=America/Los_Angeles:20181215T130000
DTSTAMP:20260420T060820
CREATED:20181125T000636Z
LAST-MODIFIED:20181125T000636Z
UID:6953-1544871600-1544878800@albanycarousel.com
SUMMARY:Pictures with Santa
DESCRIPTION:Bring your own camera and take pictures with Santa! \nFREE — Donations are encouraged!
URL:https://albanycarousel.com/event/pictures-with-santa-3/
LOCATION:Albany Carousel\, 503 1st Street W\, Albany\, OR\, 97321\, United States
CATEGORIES:Holiday Events
ATTACH;FMTTYPE=image/jpeg:https://albanycarousel.com/wp-content/uploads/2018/11/santacarousel1.jpeg
END:VEVENT
BEGIN:VEVENT
DTSTART;TZID=America/Los_Angeles:20181209T170000
DTEND;TZID=America/Los_Angeles:20181209T200000
DTSTAMP:20260420T060820
CREATED:20181130T051818Z
LAST-MODIFIED:20181130T052046Z
UID:6983-1544374800-1544385600@albanycarousel.com
SUMMARY:Sybaris presents Let Kids Be Kids!
DESCRIPTION:Raise your glasses for kids who need passes! \nA Dickens Christmas Dinner to raise funds for local underprivileged children to ride the Albany Carousel. \nMenu: \n\nChilled pheasant pie\, wassail jelly\nGoose “ham”\, pease porridge\nMock turtle soup\nSmoked trout kedgeree\nRoasted pork loin\, sugar plum gravy\, roasted potatoes\nPlum pudding\, hard sauce\nReal English Stilton\, fruits and nuts\, oat biscuits\n\nCost: \n$50/person ($75/with wine pairing) \n*** Gratuity is not included *** \nCall Sybaris Restaurant for reservations: (541) 928-8157
URL:https://albanycarousel.com/event/sybaris-kids-be-kids/
LOCATION:Sybaris Restaurant\, 442 1st Ave. West\, Albany\, OR\, 97321
CATEGORIES:Fundraiser
ATTACH;FMTTYPE=image/jpeg:https://albanycarousel.com/wp-content/uploads/2018/11/81C83BAC-3DEF-4EB5-830F-1732875B4962.jpeg
END:VEVENT
BEGIN:VEVENT
DTSTART;TZID=America/Los_Angeles:20181209T110000
DTEND;TZID=America/Los_Angeles:20181209T130000
DTSTAMP:20260420T060820
CREATED:20181127T045039Z
LAST-MODIFIED:20181127T045039Z
UID:6980-1544353200-1544360400@albanycarousel.com
SUMMARY:Pictures with Santa
DESCRIPTION:Bring your own camera and take pictures with Santa! \nFREE — Donations are encouraged!
URL:https://albanycarousel.com/event/pictures-with-santa-5/
LOCATION:Albany Carousel\, 503 1st Street W\, Albany\, OR\, 97321\, United States
CATEGORIES:Holiday Events
ATTACH;FMTTYPE=image/jpeg:https://albanycarousel.com/wp-content/uploads/2018/11/santacarousel1.jpeg
END:VEVENT
BEGIN:VEVENT
DTSTART;TZID=America/Los_Angeles:20181208T110000
DTEND;TZID=America/Los_Angeles:20181208T130000
DTSTAMP:20260420T060820
CREATED:20181124T235410Z
LAST-MODIFIED:20181125T000238Z
UID:6951-1544266800-1544274000@albanycarousel.com
SUMMARY:Pictures with Santa
DESCRIPTION:Bring your own camera and take pictures with Santa! \nFREE — Donations are encouraged!
URL:https://albanycarousel.com/event/pictures-with-santa-2/
LOCATION:Albany Carousel\, 503 1st Street W\, Albany\, OR\, 97321\, United States
CATEGORIES:Holiday Events
ATTACH;FMTTYPE=image/jpeg:https://albanycarousel.com/wp-content/uploads/2018/11/santacarousel1.jpeg
END:VEVENT
BEGIN:VEVENT
DTSTART;TZID=America/Los_Angeles:20181206T180000
DTEND;TZID=America/Los_Angeles:20181206T200000
DTSTAMP:20260420T060820
CREATED:20181125T003613Z
LAST-MODIFIED:20181125T003613Z
UID:6957-1544119200-1544126400@albanycarousel.com
SUMMARY:Festival of Wreaths
DESCRIPTION:Join us for our First Annual Festival of Wreaths! December 6th from 6pm -8pm. Tickets for the event are $20 per person. Tickets can be purchased by calling 541-297-2934 or by visiting our gift shop. With your $20 ticket you will receive a special Carousel wine glass as well as a drink ticket. Along with the Live auction we will have several silent auction items. Come and enjoy a wonderful evening of music\, wine\, hors d’oeuvres and Carousel fun! 21+ over event.
URL:https://albanycarousel.com/event/festival-of-wreaths/
LOCATION:Albany Carousel\, 503 1st Street W\, Albany\, OR\, 97321\, United States
CATEGORIES:Fundraiser
ATTACH;FMTTYPE=image/jpeg:https://albanycarousel.com/wp-content/uploads/2018/11/Wreath_Event.jpeg
END:VEVENT
BEGIN:VEVENT
DTSTART;TZID=America/Los_Angeles:20181202T110000
DTEND;TZID=America/Los_Angeles:20181202T130000
DTSTAMP:20260420T060820
CREATED:20181127T044913Z
LAST-MODIFIED:20181127T044913Z
UID:6979-1543748400-1543755600@albanycarousel.com
SUMMARY:Pictures with Santa
DESCRIPTION:Bring your own camera and take pictures with Santa! \nFREE — Donations are encouraged!
URL:https://albanycarousel.com/event/pictures-with-santa-4/
LOCATION:Albany Carousel\, 503 1st Street W\, Albany\, OR\, 97321\, United States
CATEGORIES:Holiday Events
ATTACH;FMTTYPE=image/jpeg:https://albanycarousel.com/wp-content/uploads/2018/11/santacarousel1.jpeg
END:VEVENT
BEGIN:VEVENT
DTSTART;TZID=America/Los_Angeles:20181201T110000
DTEND;TZID=America/Los_Angeles:20181201T130000
DTSTAMP:20260420T060820
CREATED:20181124T235037Z
LAST-MODIFIED:20181125T000317Z
UID:6948-1543662000-1543669200@albanycarousel.com
SUMMARY:Pictures with Santa
DESCRIPTION:Bring your own camera and take pictures with Santa! \nFREE — Donations are encouraged!
URL:https://albanycarousel.com/event/pictures-with-santa/
LOCATION:Albany Carousel\, 503 1st Street W\, Albany\, OR\, 97321\, United States
CATEGORIES:Holiday Events
ATTACH;FMTTYPE=image/jpeg:https://albanycarousel.com/wp-content/uploads/2018/11/santacarousel1.jpeg
END:VEVENT
END:VCALENDAR