BEGIN:VCALENDAR
VERSION:2.0
PRODID:-//Historic Carousel &amp; Museum of Albany - ECPv6.10.2//NONSGML v1.0//EN
CALSCALE:GREGORIAN
METHOD:PUBLISH
X-ORIGINAL-URL:https://albanycarousel.com
X-WR-CALDESC:Events for Historic Carousel &amp; Museum of Albany
REFRESH-INTERVAL;VALUE=DURATION:PT1H
X-Robots-Tag:noindex
X-PUBLISHED-TTL:PT1H
BEGIN:VTIMEZONE
TZID:America/Los_Angeles
BEGIN:DAYLIGHT
TZOFFSETFROM:-0800
TZOFFSETTO:-0700
TZNAME:PDT
DTSTART:20260308T100000
END:DAYLIGHT
BEGIN:STANDARD
TZOFFSETFROM:-0700
TZOFFSETTO:-0800
TZNAME:PST
DTSTART:20261101T090000
END:STANDARD
END:VTIMEZONE
BEGIN:VEVENT
DTSTART;TZID=America/Los_Angeles:20260423T113000
DTEND;TZID=America/Los_Angeles:20260423T123000
DTSTAMP:20260425T052255
CREATED:20260314T221440Z
LAST-MODIFIED:20260322T201604Z
UID:2633256-1776943800-1776947400@albanycarousel.com
SUMMARY:Once Upon a Thursday
DESCRIPTION:This week we have Story Time with Miss Robin! \nFree to attend. It will be held in our Rental Room 1\, just off the main Carousel room. It is quickly becoming a family favorite! Come on down and enjoy a tale with us. \n 
URL:https://albanycarousel.com/event/once-upon-a-thursday-5/
LOCATION:Albany Carousel\, 503 1st Street W\, Albany\, OR\, 97321\, United States
END:VEVENT
END:VCALENDAR