BEGIN:VCALENDAR
VERSION:2.0
PRODID:-//Historic Carousel &amp; Museum of Albany - ECPv6.10.2//NONSGML v1.0//EN
CALSCALE:GREGORIAN
METHOD:PUBLISH
X-WR-CALNAME:Historic Carousel &amp; Museum of Albany
X-ORIGINAL-URL:https://albanycarousel.com
X-WR-CALDESC:Events for Historic Carousel &amp; Museum of Albany
REFRESH-INTERVAL;VALUE=DURATION:PT1H
X-Robots-Tag:noindex
X-PUBLISHED-TTL:PT1H
BEGIN:VTIMEZONE
TZID:America/Los_Angeles
BEGIN:DAYLIGHT
TZOFFSETFROM:-0800
TZOFFSETTO:-0700
TZNAME:PDT
DTSTART:20260308T100000
END:DAYLIGHT
BEGIN:STANDARD
TZOFFSETFROM:-0700
TZOFFSETTO:-0800
TZNAME:PST
DTSTART:20261101T090000
END:STANDARD
END:VTIMEZONE
BEGIN:VEVENT
DTSTART;TZID=America/Los_Angeles:20260418T110000
DTEND;TZID=America/Los_Angeles:20260418T130000
DTSTAMP:20260420T042651
CREATED:20260218T194157Z
LAST-MODIFIED:20260306T171459Z
UID:2590766-1776510000-1776517200@albanycarousel.com
SUMMARY:Little RoyalTea Party
DESCRIPTION:Calling all princes\, princesses\, kings\, and queens! ✨ You’re invited to a royal tea party filled with magic and fun! Sip on delicious tea or juice\, enjoy tasty finger foods\, and get creative with exciting crafts. Plus\, the Party Perfection Princes and Princesses will be there to make this day extra enchanting! Dress in your royal best and get ready for a splendidly magical time! 👑☕🎉 \n  \nApril 18\, 2026 \n11:00am -1:00pm \nTickets: HERE
URL:https://albanycarousel.com/event/little-royaltea-party/
LOCATION:Albany Carousel\, 503 1st Street W\, Albany\, OR\, 97321\, United States
END:VEVENT
END:VCALENDAR