BEGIN:VCALENDAR
VERSION:2.0
PRODID:-//Historic Carousel &amp; Museum of Albany - ECPv6.10.2//NONSGML v1.0//EN
CALSCALE:GREGORIAN
METHOD:PUBLISH
X-ORIGINAL-URL:https://albanycarousel.com
X-WR-CALDESC:Events for Historic Carousel &amp; Museum of Albany
REFRESH-INTERVAL;VALUE=DURATION:PT1H
X-Robots-Tag:noindex
X-PUBLISHED-TTL:PT1H
BEGIN:VTIMEZONE
TZID:America/Los_Angeles
BEGIN:DAYLIGHT
TZOFFSETFROM:-0800
TZOFFSETTO:-0700
TZNAME:PDT
DTSTART:20260308T100000
END:DAYLIGHT
BEGIN:STANDARD
TZOFFSETFROM:-0700
TZOFFSETTO:-0800
TZNAME:PST
DTSTART:20261101T090000
END:STANDARD
END:VTIMEZONE
BEGIN:VEVENT
DTSTART;VALUE=DATE:20260322
DTEND;VALUE=DATE:20260330
DTSTAMP:20260421T035548
CREATED:20260321T173202Z
LAST-MODIFIED:20260322T205956Z
UID:2645803-1774137600-1774828799@albanycarousel.com
SUMMARY:Spring Break SPIRIT WEEK
DESCRIPTION:Not only is the Carousel OPEN for all seven days of Spring Break but we also have special dress up days and daily cafe specials! Come on out and have some fun with us! \nA reminder\, Wednesday the 25th is our Founder Wendy Kirbey’s birthday and to celebrate there will be FREE RIDES ALL DAY! \nSunday – Thursday 11am – 4pm \nFriday and Saturday 11am – 7pm \n 
URL:https://albanycarousel.com/event/spring-break-spirit-week-4/
LOCATION:Albany Carousel\, 503 1st Street W\, Albany\, OR\, 97321\, United States
END:VEVENT
END:VCALENDAR