BEGIN:VCALENDAR
VERSION:2.0
PRODID:-//Historic Carousel &amp; Museum of Albany - ECPv6.10.2//NONSGML v1.0//EN
CALSCALE:GREGORIAN
METHOD:PUBLISH
X-ORIGINAL-URL:https://albanycarousel.com
X-WR-CALDESC:Events for Historic Carousel &amp; Museum of Albany
REFRESH-INTERVAL;VALUE=DURATION:PT1H
X-Robots-Tag:noindex
X-PUBLISHED-TTL:PT1H
BEGIN:VTIMEZONE
TZID:America/Los_Angeles
BEGIN:DAYLIGHT
TZOFFSETFROM:-0800
TZOFFSETTO:-0700
TZNAME:PDT
DTSTART:20240310T100000
END:DAYLIGHT
BEGIN:STANDARD
TZOFFSETFROM:-0700
TZOFFSETTO:-0800
TZNAME:PST
DTSTART:20241103T090000
END:STANDARD
END:VTIMEZONE
BEGIN:VEVENT
DTSTART;TZID=America/Los_Angeles:20241026T110000
DTEND;TZID=America/Los_Angeles:20241026T130000
DTSTAMP:20260420T090005
CREATED:20241006T213045Z
LAST-MODIFIED:20241020T191248Z
UID:1556968-1729940400-1729947600@albanycarousel.com
SUMMARY:Halloween Giveaway!
DESCRIPTION:For our first 240 guests we have FREE Halloween bags and flashlights\, to light your way on the upcoming spooky night! \nMake us your first stop as you head downtown\, get your free gear\, and even check out our gift shop for any last minute costume needs! Get your first pieces of candy\, take a spin\, grab some lunch\, and head out refreshed – to continue a wonderful time together enjoying our beautiful downtown spaces and lively businesses giving out candy this year!
URL:https://albanycarousel.com/event/halloween-giveaway/
LOCATION:OR
END:VEVENT
END:VCALENDAR